BEGIN:VCALENDAR
PRODID:-//eluceo/ical//2.0/EN
VERSION:2.0
CALSCALE:GREGORIAN
BEGIN:VEVENT
UID:23c7a671df850c80b8759a459553ce89
DTSTAMP:20260419T122118Z
SUMMARY:Amtsübergabe 2025
DESCRIPTION:Website: https://schlosskyburg.ch\nSprekers: \n
URL:https://rotary-ie.ch/nl/agenda/show/195642
DTSTART;TZID=Europe/Zurich:20250629T110000
DTEND;TZID=Europe/Zurich:20250629T170000
LOCATION:Schloss Kyburg\, Schloss 1\, 8314 Kyburg
CATEGORIES:Rotary
END:VEVENT
BEGIN:VTIMEZONE
TZID:Europe/Zurich
BEGIN:DAYLIGHT
DTSTART:20250629T110000
TZNAME:CEST
TZOFFSETTO:+0200
TZOFFSETFROM:+0200
END:DAYLIGHT
END:VTIMEZONE
END:VCALENDAR
