BEGIN:VCALENDAR
PRODID:-//eluceo/ical//2.0/EN
VERSION:2.0
CALSCALE:GREGORIAN
BEGIN:VEVENT
UID:44ea81dea4ec0f120e5116a869ea424c
DTSTAMP:20260420T211820Z
SUMMARY:Lunch mit Referat- Der Einsatz von künstlicher Intelligenz (KI)
DESCRIPTION:Sito web: https://www.zhaw.ch/de/ueber-uns/person/stdm/\nRelato
 re/i: \nReferent \n\n\n\n\n\n\n\n\n\n\n\n\n\n\n\n\n\n\n\nProf. Dr. \n\n\n\
 n\n\n\n\n\n\n\n\n\n\n\n\n\n\n\n\nThilo\nStadelmann - Leiter des Centre for
  Artificial Intelligence\n\n\n\n
URL:https://rotary-ie.ch/it/agenda/show/134819
DTSTART;TZID=Europe/Zurich:20220211T120000
DTEND;TZID=Europe/Zurich:20220211T133000
LOCATION:Gasthof Rössli\, Kempttalstrasse 52\, 8308 Illnau
CATEGORIES:Rotary
END:VEVENT
BEGIN:VTIMEZONE
TZID:Europe/Zurich
BEGIN:STANDARD
DTSTART:20220211T120000
TZNAME:CET
TZOFFSETTO:+0100
TZOFFSETFROM:+0100
END:STANDARD
END:VTIMEZONE
END:VCALENDAR
