BEGIN:VCALENDAR
PRODID:-//eluceo/ical//2.0/EN
VERSION:2.0
CALSCALE:GREGORIAN
BEGIN:VEVENT
UID:8a27d9d5c5633c3593fa0c8dd30a2886
DTSTAMP:20260423T160151Z
SUMMARY:Lunch mit Referat - Essen ist ein Bedürfnis\, geniessen ist eine K
 unst.
DESCRIPTION:Sito web: https://www.ernaehrung-wahlen.ch/\nRelatore/i: \nRefe
 rentin Rot. Denise Wahlen
URL:https://rotary-ie.ch/it/agenda/show/132502
DTSTART;TZID=Europe/Zurich:20211210T120000
DTEND;TZID=Europe/Zurich:20211210T133000
LOCATION:Gasthof Rössli\, Kempttalstrasse 52\, 8308 Illnau
CATEGORIES:Rotary
END:VEVENT
BEGIN:VTIMEZONE
TZID:Europe/Zurich
BEGIN:STANDARD
DTSTART:20211210T120000
TZNAME:CET
TZOFFSETTO:+0100
TZOFFSETFROM:+0100
END:STANDARD
END:VTIMEZONE
END:VCALENDAR
