BEGIN:VCALENDAR
PRODID:-//eluceo/ical//2.0/EN
VERSION:2.0
CALSCALE:GREGORIAN
BEGIN:VEVENT
UID:b7252f1f5229711f5c3d9c4b2f5c69a7
DTSTAMP:20260423T160356Z
SUMMARY:Präsenzapéro
DESCRIPTION:Sito web: https://hoernli-illnau.ch/
URL:https://rotary-ie.ch/it/agenda/show/131656
DTSTART;TZID=Europe/Zurich:20211201T180000
DTEND;TZID=Europe/Zurich:20211201T180000
LOCATION:Restaurant Hörnli
CATEGORIES:Rotary
END:VEVENT
BEGIN:VTIMEZONE
TZID:Europe/Zurich
BEGIN:STANDARD
DTSTART:20211201T180000
TZNAME:CET
TZOFFSETTO:+0100
TZOFFSETFROM:+0100
END:STANDARD
END:VTIMEZONE
END:VCALENDAR
