BEGIN:VCALENDAR
PRODID:-//eluceo/ical//2.0/EN
VERSION:2.0
CALSCALE:GREGORIAN
BEGIN:VEVENT
UID:1737c7db80aa5266343cc38ce7a6e048
DTSTAMP:20260424T130818Z
SUMMARY:Rotary-Ausflug mit Bewohnern und Bewohnerinnen des Geratrium Pfäff
 ikon
DESCRIPTION:Conférencier(s): Organisation durch Rotarier Dr. Thomas Zogg
URL:https://rotary-ie.ch/fr/agenda/show/146896
DTSTART;TZID=Europe/Zurich:20220915T090000
DTEND;TZID=Europe/Zurich:20220915T164500
LOCATION:Geratrium Pfäffikon
CATEGORIES:Rotary
END:VEVENT
BEGIN:VTIMEZONE
TZID:Europe/Zurich
BEGIN:DAYLIGHT
DTSTART:20220915T090000
TZNAME:CEST
TZOFFSETTO:+0200
TZOFFSETFROM:+0200
END:DAYLIGHT
END:VTIMEZONE
END:VCALENDAR
