BEGIN:VCALENDAR
PRODID:-//eluceo/ical//2.0/EN
VERSION:2.0
CALSCALE:GREGORIAN
BEGIN:VEVENT
UID:e29364e709819bc3551f66952311ee92
DTSTAMP:20260424T010014Z
SUMMARY:Lunch bei Brauch Transport AG
DESCRIPTION:Site internet: http://www.brauch-transporte.ch\nConférencier(s
 ): Rot. Carl Brauch  empfängt uns freundlicherweise zum Lunch bei der Br
 auch Transport AG. Treffpunkt ist ca. um 11.30 Uhr für den Apéro\, ansch
 liessend findet der Lunch in der Bellavista Lounge statt.
URL:https://rotary-ie.ch/fr/agenda/show/145671
DTSTART;TZID=Europe/Zurich:20220909T113000
DTEND;TZID=Europe/Zurich:20220909T133000
LOCATION:Brauch Transport AG\, Allmendstrasse 39\, 8320 Fehraltorf
CATEGORIES:Rotary
END:VEVENT
BEGIN:VTIMEZONE
TZID:Europe/Zurich
BEGIN:DAYLIGHT
DTSTART:20220909T113000
TZNAME:CEST
TZOFFSETTO:+0200
TZOFFSETFROM:+0200
END:DAYLIGHT
END:VTIMEZONE
END:VCALENDAR
