BEGIN:VCALENDAR
PRODID:-//eluceo/ical//2.0/EN
VERSION:2.0
CALSCALE:GREGORIAN
BEGIN:VEVENT
UID:589f10cac0cef561c40c1af74fe34660
DTSTAMP:20260421T224644Z
SUMMARY:Wanderung 199: Von Oberuster nach Grüningen
DESCRIPTION:Conférencier(s): Wanderleiterin Carla Mom
URL:https://rotary-ie.ch/fr/agenda/show/140223
DTSTART;TZID=Europe/Zurich:20220901T085000
DTEND;TZID=Europe/Zurich:20220901T153000
LOCATION:Uster\, Sonnenhaldenstrasse 49
CATEGORIES:Rotary
END:VEVENT
BEGIN:VTIMEZONE
TZID:Europe/Zurich
BEGIN:DAYLIGHT
DTSTART:20220901T085000
TZNAME:CEST
TZOFFSETTO:+0200
TZOFFSETFROM:+0200
END:DAYLIGHT
END:VTIMEZONE
END:VCALENDAR
