BEGIN:VCALENDAR
PRODID:-//eluceo/ical//2.0/EN
VERSION:2.0
CALSCALE:GREGORIAN
BEGIN:VEVENT
UID:e8fa619b9df9031d64a6e4e149d0a77f
DTSTAMP:20260422T035941Z
SUMMARY:Wanderung 194: Festungsruine Hohentwiel
DESCRIPTION:Conférencier(s): Wanderleiter Jim Schnell
URL:https://rotary-ie.ch/fr/agenda/show/140218
DTSTART;TZID=Europe/Zurich:20220517T091500
DTEND;TZID=Europe/Zurich:20220517T150000
LOCATION:Wanderparkplatz Hohentwiel (beim Rest. Hohentwiel)
CATEGORIES:Rotary
END:VEVENT
BEGIN:VTIMEZONE
TZID:Europe/Zurich
BEGIN:DAYLIGHT
DTSTART:20220517T091500
TZNAME:CEST
TZOFFSETTO:+0200
TZOFFSETFROM:+0200
END:DAYLIGHT
END:VTIMEZONE
END:VCALENDAR
