BEGIN:VCALENDAR
PRODID:-//eluceo/ical//2.0/EN
VERSION:2.0
CALSCALE:GREGORIAN
BEGIN:VEVENT
UID:636fa8c41739af00d7afdf7363cf35ef
DTSTAMP:20260422T062103Z
SUMMARY:Wanderung 193: Effretikon - Illnau
DESCRIPTION:Conférencier(s): Wanderleiter Karl Kümin
URL:https://rotary-ie.ch/fr/agenda/show/139670
DTSTART;TZID=Europe/Zurich:20220428T091500
DTEND;TZID=Europe/Zurich:20220428T150000
LOCATION:Bahnhof Effretikon
CATEGORIES:Rotary
END:VEVENT
BEGIN:VTIMEZONE
TZID:Europe/Zurich
BEGIN:DAYLIGHT
DTSTART:20220428T091500
TZNAME:CEST
TZOFFSETTO:+0200
TZOFFSETFROM:+0200
END:DAYLIGHT
END:VTIMEZONE
END:VCALENDAR
