BEGIN:VCALENDAR
PRODID:-//eluceo/ical//2.0/EN
VERSION:2.0
CALSCALE:GREGORIAN
BEGIN:VEVENT
UID:0033c52e2daa11b1cb8824af0d0233b8
DTSTAMP:20260422T064156Z
SUMMARY:Wanderung 191: In der Gegend von Russikon
DESCRIPTION:Conférencier(s): Wanderleiter Hans Aeschlimann
URL:https://rotary-ie.ch/fr/agenda/show/139380
DTSTART;TZID=Europe/Zurich:20220315T090000
DTEND;TZID=Europe/Zurich:20220315T140000
LOCATION:Landgasthof Krone\, Russikon
CATEGORIES:Rotary
END:VEVENT
BEGIN:VTIMEZONE
TZID:Europe/Zurich
BEGIN:STANDARD
DTSTART:20220315T090000
TZNAME:CET
TZOFFSETTO:+0100
TZOFFSETFROM:+0100
END:STANDARD
END:VTIMEZONE
END:VCALENDAR
