BEGIN:VCALENDAR
PRODID:-//eluceo/ical//2.0/EN
VERSION:2.0
CALSCALE:GREGORIAN
BEGIN:VEVENT
UID:55b1afed6ce94981a6bf9e0b4f4deb07
DTSTAMP:20260422T063704Z
SUMMARY:Lunch mit Generalversammlung der Stiftung
DESCRIPTION:Site internet: http://www.roessli-illnau.ch\nConférencier(s): 
 \n    \n            Rot. Jean-Claude\n    \n    \n            Küttel-Sass
 enberg\n    \n    \n\n
URL:https://rotary-ie.ch/fr/agenda/show/138028
DTSTART;TZID=Europe/Zurich:20220304T120000
DTEND;TZID=Europe/Zurich:20220304T133000
LOCATION:Gasthof Rössli\, Kempttalstrasse 52\, 8308 Illnau
CATEGORIES:Rotary
END:VEVENT
BEGIN:VTIMEZONE
TZID:Europe/Zurich
BEGIN:STANDARD
DTSTART:20220304T120000
TZNAME:CET
TZOFFSETTO:+0100
TZOFFSETFROM:+0100
END:STANDARD
END:VTIMEZONE
END:VCALENDAR
