BEGIN:VCALENDAR
PRODID:-//eluceo/ical//2.0/EN
VERSION:2.0
CALSCALE:GREGORIAN
BEGIN:VEVENT
UID:af1935304fb8ae3c77cc87f2fa43d91a
DTSTAMP:20260422T074454Z
SUMMARY:Präsenzlunch
DESCRIPTION:Site internet: http://www.roessli-illnau.ch
URL:https://rotary-ie.ch/fr/agenda/show/136279
DTSTART;TZID=Europe/Zurich:20220513T120000
DTEND;TZID=Europe/Zurich:20220513T133000
LOCATION:Gasthof Rössli\, Kempttalstrasse 52\, 8308 Illnau
CATEGORIES:Rotary
END:VEVENT
BEGIN:VTIMEZONE
TZID:Europe/Zurich
BEGIN:DAYLIGHT
DTSTART:20220513T120000
TZNAME:CEST
TZOFFSETTO:+0200
TZOFFSETFROM:+0200
END:DAYLIGHT
END:VTIMEZONE
END:VCALENDAR
