BEGIN:VCALENDAR
PRODID:-//eluceo/ical//2.0/EN
VERSION:2.0
CALSCALE:GREGORIAN
BEGIN:VEVENT
UID:bdf64904d0144d588003502ea6ffa58d
DTSTAMP:20260422T193108Z
SUMMARY:Lunch mit Referat-Innovationspark Dübendorf: Meine Vision und mein
 e Mission
DESCRIPTION:Site internet: https://www.zh.ch/de/wirtschaft-arbeit/innovatio
 nspark-zuerich.html\nConférencier(s): \nReferent- Geschäftsführer Stift
 ung Innovationspark Zürich- René Kalt
URL:https://rotary-ie.ch/fr/agenda/show/134797
DTSTART;TZID=Europe/Zurich:20220114T120000
DTEND;TZID=Europe/Zurich:20220114T133000
LOCATION:Gasthof Rössli\, Kempttalstrasse 52\, 8308 Illnau
CATEGORIES:Rotary
END:VEVENT
BEGIN:VTIMEZONE
TZID:Europe/Zurich
BEGIN:STANDARD
DTSTART:20220114T120000
TZNAME:CET
TZOFFSETTO:+0100
TZOFFSETFROM:+0100
END:STANDARD
END:VTIMEZONE
END:VCALENDAR
