BEGIN:VCALENDAR
PRODID:-//eluceo/ical//2.0/EN
VERSION:2.0
CALSCALE:GREGORIAN
BEGIN:VEVENT
UID:7b526475d503c5181de2d7407affb305
DTSTAMP:20260422T163300Z
SUMMARY:Lunch mit Referat - Klimafreundliche Mobilität der Zukunft – woh
 er soll die Energie dazu kommen?
DESCRIPTION:Site internet: https://mavt.ethz.ch/de/personen/person-detail.N
 zcxMzE=.TGlzdC81NTcsLTE3MDY5NzgwMTc=.html\nConférencier(s): \nReferent Pr
 ofessor Konstantinos Boulouchos
URL:https://rotary-ie.ch/fr/agenda/show/134796
DTSTART;TZID=Europe/Zurich:20220107T120000
DTEND;TZID=Europe/Zurich:20220107T133000
LOCATION:Gasthof Rössli\, Kempttalstrasse 52\, 8308 Illnau
CATEGORIES:Rotary
END:VEVENT
BEGIN:VTIMEZONE
TZID:Europe/Zurich
BEGIN:STANDARD
DTSTART:20220107T120000
TZNAME:CET
TZOFFSETTO:+0100
TZOFFSETFROM:+0100
END:STANDARD
END:VTIMEZONE
END:VCALENDAR
