BEGIN:VCALENDAR
PRODID:-//eluceo/ical//2.0/EN
VERSION:2.0
CALSCALE:GREGORIAN
BEGIN:VEVENT
UID:3457c7185408ce0db410c063f2d51646
DTSTAMP:20260422T101019Z
SUMMARY:Partneranlass mit Impressionen vom Segeltörn 2021 in Kroatien
DESCRIPTION:Site internet: http://www.roessli-illnau.ch\nConférencier(s): 
 Referentin Rot. Regula Schellenberg
URL:https://rotary-ie.ch/fr/agenda/show/132501
DTSTART;TZID=Europe/Zurich:20211203T120000
DTEND;TZID=Europe/Zurich:20211203T133000
LOCATION:Gasthof Rössli\, Kempttalstrasse 52\, 8308 Illnau
CATEGORIES:Rotary
END:VEVENT
BEGIN:VTIMEZONE
TZID:Europe/Zurich
BEGIN:STANDARD
DTSTART:20211203T120000
TZNAME:CET
TZOFFSETTO:+0100
TZOFFSETFROM:+0100
END:STANDARD
END:VTIMEZONE
END:VCALENDAR
