BEGIN:VCALENDAR
PRODID:-//eluceo/ical//2.0/EN
VERSION:2.0
CALSCALE:GREGORIAN
BEGIN:VEVENT
UID:57ecb0e7130024f2085005bd0119220f
DTSTAMP:20260422T145827Z
SUMMARY:Präsenzapéro
DESCRIPTION:Site internet: https://hoernli-illnau.ch/
URL:https://rotary-ie.ch/fr/agenda/show/131657
DTSTART;TZID=Europe/Zurich:20220105T180000
DTEND;TZID=Europe/Zurich:20220105T180000
LOCATION:Restaurant Hörnli
CATEGORIES:Rotary
END:VEVENT
BEGIN:VTIMEZONE
TZID:Europe/Zurich
BEGIN:STANDARD
DTSTART:20220105T180000
TZNAME:CET
TZOFFSETTO:+0100
TZOFFSETFROM:+0100
END:STANDARD
END:VTIMEZONE
END:VCALENDAR
