BEGIN:VCALENDAR
PRODID:-//eluceo/ical//2.0/EN
VERSION:2.0
CALSCALE:GREGORIAN
BEGIN:VEVENT
UID:01bf497da50a48376af22858b64ea451
DTSTAMP:20260422T135325Z
SUMMARY:Hands-On Gartenprojekt Pallistella
DESCRIPTION:Conférencier(s): Organisation durch Rotarier Dr. Thomas Zogg
URL:https://rotary-ie.ch/fr/agenda/show/131092
DTSTART;TZID=Europe/Zurich:20211002T083000
DTEND;TZID=Europe/Zurich:20211002T160000
LOCATION:Pallistella GmbH\, Mühlestrasse 4\, 8487 Rämismühle
CATEGORIES:Rotary
END:VEVENT
BEGIN:VTIMEZONE
TZID:Europe/Zurich
BEGIN:DAYLIGHT
DTSTART:20211002T083000
TZNAME:CEST
TZOFFSETTO:+0200
TZOFFSETFROM:+0200
END:DAYLIGHT
END:VTIMEZONE
END:VCALENDAR
