BEGIN:VCALENDAR
PRODID:-//eluceo/ical//2.0/EN
VERSION:2.0
CALSCALE:GREGORIAN
BEGIN:VEVENT
UID:bef838ce3d8bb86efb2c984cb0916984
DTSTAMP:20260425T102305Z
SUMMARY:Wanderung Nr. 190 mit GV und Metzgete
DESCRIPTION:Conférencier(s): Organisation Hans Aeschlimann
URL:https://rotary-ie.ch/fr/agenda/show/119534
DTSTART;TZID=Europe/Zurich:20211118T090000
DTEND;TZID=Europe/Zurich:20211118T143000
LOCATION:Parkplatz Rössli Illnau
CATEGORIES:Rotary
END:VEVENT
BEGIN:VTIMEZONE
TZID:Europe/Zurich
BEGIN:STANDARD
DTSTART:20211118T090000
TZNAME:CET
TZOFFSETTO:+0100
TZOFFSETFROM:+0100
END:STANDARD
END:VTIMEZONE
END:VCALENDAR
