BEGIN:VCALENDAR
PRODID:-//eluceo/ical//2.0/EN
VERSION:2.0
CALSCALE:GREGORIAN
BEGIN:VEVENT
UID:b5ae4bed633a4ddff8e83f26686b242f
DTSTAMP:20260422T141055Z
SUMMARY:Wanderung Nr. 115
DESCRIPTION:Vom Bahnhof Effretikon wandern wir auf verschlungenen Pfaden zu
 m Apéro im Strickhof. Danach geht es im Wald oder am Waldrand weiter nach
  Kleinikon zum Golfplatz Winterberg. Gestärkt nach dem Mittagessen im Gol
 frestaurant werden diejenigen\, die "es wunder nimmt" unter kundiger Leit
 ung in die Geheimnisse des perfekten Abschlags eines Golfballs eingeweiht.
  Für die Rückkehr zum Bahnhof Effretikon stehen verschiedene Optionen of
 fen (siehe Einladung als PDF zum downloaden).\n\nVorspann:\nDie zwei erste
 n Wanderungen dieser Saison sind gut überstanden – die sportlichen Ambi
 tionen dürfen also etwas steigen. Kurt Eichenberger bietet uns deshalb an
  der nächsten Wanderung eine Kombination von Ausdauer und Geschicklichkei
 t. Im Gegensatz zum Grossteil der Golfer\, wandern wir von Effretikon aus 
 zu Fuss auf den Golfplatz Winterberg\, wo wir uns\, weil muskulär gut ang
 ewärmt\, beim nachmittäglichen Abschlagtraining mit Sicherheit keine Zer
 rungen holen werden (auch wenn uns die Begeisterung zu einem Wettbewerb\, 
 wer den Ball am Weitesten schlägt\, verleiten wird). Trotz diesem exklusi
 ven Golferlebnis bleibt zu hoffen\, dass keine Migration aus der Wandergru
 ppe in den Golfclub erfolgt.\n(hjs)\n\n \nOrador(es): Wanderleiter: Kurt 
 Eichenberger
URL:https://rotary-ie.ch/es/agenda/show/60477
DTSTART;TZID=Europe/Zurich:20160503T093000
DTEND;TZID=Europe/Zurich:20160503T093000
LOCATION:Bahnhof Effretikon
CATEGORIES:Rotary
END:VEVENT
BEGIN:VTIMEZONE
TZID:Europe/Zurich
BEGIN:DAYLIGHT
DTSTART:20160503T093000
TZNAME:CEST
TZOFFSETTO:+0200
TZOFFSETFROM:+0200
END:DAYLIGHT
END:VTIMEZONE
END:VCALENDAR
