BEGIN:VCALENDAR
PRODID:-//eluceo/ical//2.0/EN
VERSION:2.0
CALSCALE:GREGORIAN
BEGIN:VEVENT
UID:9260358a8dbff899939b1ebad407963e
DTSTAMP:20260420T161151Z
SUMMARY:Hands-On-Einsatz am Frühlingsfest Palme 29./30. April
DESCRIPTION:Das Frühlingsfest „Bio Pflanzzeit“ der Stiftung Palme find
 et am Wochenende 29. und 30. April 2016 statt.\nDie Marktzeiten sind neu d
 efiniert:\nFreitag\, 11.00 Uhr bis 14.00 Uhr\nSamstag\, 11.00 Uhr 14.00 Uh
 r\nFür den Hands-On Betrieb unseres Klubs sind jeweils 5 Rotarier zustän
 dig.\nAnmeldungen bitte an Werner Wagner:\nTel. 044 788 11 20 oder\nwerner
 .wagner@hispeed.ch\nOrador(es): Organisation: Werner Wagner
URL:https://rotary-ie.ch/es/agenda/show/49742
DTSTART;TZID=Europe/Zurich:20160429T100000
DTEND;TZID=Europe/Zurich:20160429T140000
LOCATION:Stiftung Palme Pfäffikon
CATEGORIES:Rotary
END:VEVENT
BEGIN:VTIMEZONE
TZID:Europe/Zurich
BEGIN:DAYLIGHT
DTSTART:20160429T100000
TZNAME:CEST
TZOFFSETTO:+0200
TZOFFSETFROM:+0200
END:DAYLIGHT
END:VTIMEZONE
END:VCALENDAR
