BEGIN:VCALENDAR
PRODID:-//eluceo/ical//2.0/EN
VERSION:2.0
CALSCALE:GREGORIAN
BEGIN:VEVENT
UID:38fdf9b2d3468dc2aa38d1ec65637cbf
DTSTAMP:20260422T100217Z
SUMMARY:Lunch mit Referat von Daniel Bircher „Die Flughafen Zürich AG im
  Ausland – Hintergründe\, Beweggründe\, Stand und Ausblick“
DESCRIPTION:Web stranica: http://www.roessli-illnau.ch\nGovornik(ci): Danie
 l Bircher\nFlughafen Zürich AG\n\n\n\nChief International Officer (CIO) 
  \n\n\n\n\n\n\n\n\n\n\n\n\n\n\n\n\n\n\n\n\n\n\n\n\n\n\n
URL:https://rotary-ie.ch/bs/agenda/show/195643
DTSTART;TZID=Europe/Zurich:20250620T114500
DTEND;TZID=Europe/Zurich:20250620T140000
LOCATION:Gasthof Rössli\, Kempttalstrasse 52\, 8308 Illnau
CATEGORIES:Rotary
END:VEVENT
BEGIN:VTIMEZONE
TZID:Europe/Zurich
BEGIN:DAYLIGHT
DTSTART:20250620T114500
TZNAME:CEST
TZOFFSETTO:+0200
TZOFFSETFROM:+0200
END:DAYLIGHT
END:VTIMEZONE
END:VCALENDAR
